BEGIN:VCALENDAR
VERSION:2.0
PRODID:-//Latin American &amp; Iberian Studies Program - ECPv6.10.2//NONSGML v1.0//EN
CALSCALE:GREGORIAN
METHOD:PUBLISH
X-WR-CALNAME:Latin American &amp; Iberian Studies Program
X-ORIGINAL-URL:https://lais.ucsb.edu
X-WR-CALDESC:Events for Latin American &amp; Iberian Studies Program
REFRESH-INTERVAL;VALUE=DURATION:PT1H
X-Robots-Tag:noindex
X-PUBLISHED-TTL:PT1H
BEGIN:VTIMEZONE
TZID:America/Los_Angeles
BEGIN:DAYLIGHT
TZOFFSETFROM:-0800
TZOFFSETTO:-0700
TZNAME:PDT
DTSTART:20250309T100000
END:DAYLIGHT
BEGIN:STANDARD
TZOFFSETFROM:-0700
TZOFFSETTO:-0800
TZNAME:PST
DTSTART:20251102T090000
END:STANDARD
END:VTIMEZONE
BEGIN:VEVENT
DTSTART;TZID=America/Los_Angeles:20250502T140000
DTEND;TZID=America/Los_Angeles:20250502T160000
DTSTAMP:20260419T085952
CREATED:20250417T180718Z
LAST-MODIFIED:20250417T180718Z
UID:4693-1746194400-1746201600@lais.ucsb.edu
SUMMARY:Book Talk: The Letters of Fernando Túpac Amaru
DESCRIPTION:Please join us for a book presentation to mark the publication of Las cartas de Fernando Túpac Amaru y otros documentos (1782-1798) [The letters of Fernando Túpac Amaru and other documents]\, co-edited by a collective of scholars\, artists\, and educators including our own Cecilia Méndez and Viola Varotto\, and recently published in Lima. \nCecilia Méndez and Viola Varotto will be in conversation with Jairo Melo\, digital humanities research facilitator at the UCSB Library\, who is a specialist of the political and judicial institutions of the Spanish monarchy in the 18th century. The event will be in English.
URL:https://lais.ucsb.edu/event/book-talk-the-letters-of-fernando-tupac-amaru/
LOCATION:Girvetz 2320
END:VEVENT
BEGIN:VEVENT
DTSTART;TZID=America/Los_Angeles:20250514T100000
DTEND;TZID=America/Los_Angeles:20250514T120000
DTSTAMP:20260419T085952
CREATED:20250118T022645Z
LAST-MODIFIED:20250321T221947Z
UID:4545-1747216800-1747224000@lais.ucsb.edu
SUMMARY:LAIS Breakfast in May
DESCRIPTION:Our monthly community breakfast will be on Wednesday\, May 14\, at 10am. Come out to Girvetz 2320 to enjoy free bagels and coffee\, while hearing our LAIS graduate students share some of their research!
URL:https://lais.ucsb.edu/event/lais-breakfast-in-may/
ATTACH;FMTTYPE=image/png:https://lais.ucsb.edu/wp-content/uploads/2025/01/LAIS-Breakfast-May-14.png
END:VEVENT
BEGIN:VEVENT
DTSTART;TZID=America/Los_Angeles:20250523T140000
DTEND;TZID=America/Los_Angeles:20250523T160000
DTSTAMP:20260419T085952
CREATED:20250522T164915Z
LAST-MODIFIED:20250522T214847Z
UID:4717-1748008800-1748016000@lais.ucsb.edu
SUMMARY:Film Screening and Discussion: The Market and the Monkey's Paw: The Bitcoin Experiment in El Salvador
DESCRIPTION:Please join us on May 23rd\, from 2 to 4 pm\, in Girvetz 2320\, for a screening a discussion of The Market and the Monkey’s Paw: The Bitcoin Experiment in El Salvador\, a documentary by Global Studies undergraduate Leo Safir\, produced in collaboration with CLAIR Affiliate Prof. Nicole Cerpa Vielma (Global Studies). They will be in conversation with Prof. Giovanni Batz (Chicana/o Studies).
URL:https://lais.ucsb.edu/event/film-screening-and-discussion-the-market-and-the-monkeys-paw-the-bitcoin-experiment-in-el-salvador/
LOCATION:Girvetz 2320
END:VEVENT
BEGIN:VEVENT
DTSTART;TZID=America/Los_Angeles:20250528T094500
DTEND;TZID=America/Los_Angeles:20250528T104500
DTSTAMP:20260419T085952
CREATED:20250522T170428Z
LAST-MODIFIED:20250522T214847Z
UID:4720-1748425500-1748429100@lais.ucsb.edu
SUMMARY:Latin American Studies v. the Psychedelic Renaissance
DESCRIPTION:The last two decades have seen a resurgence of research with psychedelic substances for medical purposes that has concurred with a proliferation of neo-shamanic or mystical practices\, retreats and communities that have the consumption of psychoactive plants and preparations at the center of their rituals.  This “psychedelic renaissance\,” largely popularized by Michael Pollan’s best-selling book How to Change Your Mind (now a Netflix documentary) has a significant economic and cultural impact on indigenous societies\, cultural practices\, and fragile environments in Latin America that needs a critical engagement from the Humanities and Social Sciences. \nAlberto Ribas-Casasayas is Associate Professor of Spanish and Latin American Studies and Chair of the Department of Modern Languages and Literatures at Santa Clara University.   He is the author of Luces y sombras del renacimiento psicodélico (Lights and Shadows in the Psychedelic Renaissance) and co-editor (with Amanda Petersen) of  Espectros: Ghost Hauntings and the Talking Dead in Transhispanic Narratives\, and (with Ana Luengo) of Otras iluminaciones: Narrativa\, cultura y psicodélicos (Other Illuminations: Narrative\, Culture\, and Psychedelics)\, which was released just this month with Almenara Press.
URL:https://lais.ucsb.edu/event/latin-american-studies-v-the-psychedelic-renaissance/
LOCATION:PSYCH 1924
END:VEVENT
BEGIN:VEVENT
DTSTART;TZID=America/Los_Angeles:20250530T120000
DTEND;TZID=America/Los_Angeles:20250530T140000
DTSTAMP:20260419T085952
CREATED:20250522T164614Z
LAST-MODIFIED:20250522T214847Z
UID:4714-1748606400-1748613600@lais.ucsb.edu
SUMMARY:2025 End-of-Year Celebration and Awards Ceremony for LAIS and CLAIR
DESCRIPTION:
URL:https://lais.ucsb.edu/event/2025-end-of-year-celebration-and-awards-ceremony-for-lais-and-clair/
LOCATION:Girvetz 2320
END:VEVENT
END:VCALENDAR