BEGIN:VCALENDAR
VERSION:2.0
PRODID:-//Latin American &amp; Iberian Studies Program - ECPv6.10.2//NONSGML v1.0//EN
CALSCALE:GREGORIAN
METHOD:PUBLISH
X-WR-CALNAME:Latin American &amp; Iberian Studies Program
X-ORIGINAL-URL:https://lais.ucsb.edu
X-WR-CALDESC:Events for Latin American &amp; Iberian Studies Program
REFRESH-INTERVAL;VALUE=DURATION:PT1H
X-Robots-Tag:noindex
X-PUBLISHED-TTL:PT1H
BEGIN:VTIMEZONE
TZID:America/Los_Angeles
BEGIN:DAYLIGHT
TZOFFSETFROM:-0800
TZOFFSETTO:-0700
TZNAME:PDT
DTSTART:20250309T100000
END:DAYLIGHT
BEGIN:STANDARD
TZOFFSETFROM:-0700
TZOFFSETTO:-0800
TZNAME:PST
DTSTART:20251102T090000
END:STANDARD
END:VTIMEZONE
BEGIN:VEVENT
DTSTART;TZID=America/Los_Angeles:20250409T100000
DTEND;TZID=America/Los_Angeles:20250409T120000
DTSTAMP:20260423T133757
CREATED:20250118T022733Z
LAST-MODIFIED:20250321T222012Z
UID:4542-1744192800-1744200000@lais.ucsb.edu
SUMMARY:LAIS Community Breakfast in April
DESCRIPTION:Our monthly community breakfast will be on Wednesday\, April 9\, at 10am. Come out to Girvetz 2320 to enjoy free bagels and coffee\, while hearing our LAIS graduate students share some of their research!
URL:https://lais.ucsb.edu/event/lais-community-breakfast-in-april/
ATTACH;FMTTYPE=image/png:https://lais.ucsb.edu/wp-content/uploads/2025/01/LAIS-Breakfast-April-9.png
END:VEVENT
BEGIN:VEVENT
DTSTART;TZID=America/Los_Angeles:20250418T170000
DTEND;TZID=America/Los_Angeles:20250418T190000
DTSTAMP:20260423T133757
CREATED:20250409T215934Z
LAST-MODIFIED:20250409T220817Z
UID:4687-1744995600-1745002800@lais.ucsb.edu
SUMMARY:Lottery in Quechua and other games
DESCRIPTION:Please join us for a night of games\, as we celebrate indigenous languages from across the Americas. You are welcome to bring your own games\, ideas\, and languages to share.
URL:https://lais.ucsb.edu/event/lottery-in-quechua-and-other-games/
LOCATION:Girvetz 2320
END:VEVENT
END:VCALENDAR