BEGIN:VCALENDAR
VERSION:2.0
PRODID:-//Latin American &amp; Iberian Studies Program - ECPv6.10.2//NONSGML v1.0//EN
CALSCALE:GREGORIAN
METHOD:PUBLISH
X-WR-CALNAME:Latin American &amp; Iberian Studies Program
X-ORIGINAL-URL:https://lais.ucsb.edu
X-WR-CALDESC:Events for Latin American &amp; Iberian Studies Program
REFRESH-INTERVAL;VALUE=DURATION:PT1H
X-Robots-Tag:noindex
X-PUBLISHED-TTL:PT1H
BEGIN:VTIMEZONE
TZID:America/Los_Angeles
BEGIN:DAYLIGHT
TZOFFSETFROM:-0800
TZOFFSETTO:-0700
TZNAME:PDT
DTSTART:20250309T100000
END:DAYLIGHT
BEGIN:STANDARD
TZOFFSETFROM:-0700
TZOFFSETTO:-0800
TZNAME:PST
DTSTART:20251102T090000
END:STANDARD
END:VTIMEZONE
BEGIN:VEVENT
DTSTART;TZID=America/Los_Angeles:20250205T110000
DTEND;TZID=America/Los_Angeles:20250205T123000
DTSTAMP:20260419T072536
CREATED:20250118T030545Z
LAST-MODIFIED:20250118T030545Z
UID:4526-1738753200-1738758600@lais.ucsb.edu
SUMMARY:Book Presentation with Giovanni Batz on The Fourth Invasion: Decolonizing Histories\, Extractavism\, and Maya Resistance in Guatemala
DESCRIPTION:On February 5\, Professor Giovanni Batz will have a book presentation on his new publication\, “The Fourth Invasion: Decolonizing Histories\, Extractavism\, and Maya Resistance in Guatemala.” This presentation will feature commentators Charles Hale\, the Dean of Social Sciences\, and Javiera Barandiarán\, Associate Professor of Global Studies. Assistant Professor Daina Sanchez of Chicana/o Studies will moderate. This event will be the first sponsored by the new Center for Latin American and Iberian Research at UCSB! \nThe presentation will be held from 11AM to 12:30PM in HSSB 6020. \n 
URL:https://lais.ucsb.edu/event/book-presentation-with-giovanni-batz-on-the-fourth-invasion-decolonizing-histories-extractavism-and-maya-resistance-in-guatemala/
LOCATION:McCune Conference Room HSSB 6020
END:VEVENT
BEGIN:VEVENT
DTSTART;TZID=America/Los_Angeles:20250207T170000
DTEND;TZID=America/Los_Angeles:20250207T183000
DTSTAMP:20260419T072536
CREATED:20250118T031737Z
LAST-MODIFIED:20250123T213404Z
UID:4534-1738947600-1738953000@lais.ucsb.edu
SUMMARY:Book Presentation with Juan Cobo on The Coming of the Kingdom: The Muisca\, Catholic Reform\, and Spanish Colonialism in the New Kingdom of Granada
DESCRIPTION:Professor Juan Cobo Betancourt\, Director of the LAIS Program\, has an upcoming event on February 7 for his recent publication of “The Coming of the Kingdom: The Muisca\, Catholic Reform\, and Spanish Colonialism in the New Kingdom of Granda!” \nThe event will be co-sponsored by the Department of History and the Center for Latin American and Iberian Research. \n 
URL:https://lais.ucsb.edu/event/book-launch-with-juan-cobo-the-coming-of-the-kingdom-the-muisca-catholic-reform-and-spanish-colonialism-in-the-new-kingdom-of-granada/
LOCATION:McCune Conference Room HSSB 6020
END:VEVENT
BEGIN:VEVENT
DTSTART;TZID=America/Los_Angeles:20250212T100000
DTEND;TZID=America/Los_Angeles:20250212T120000
DTSTAMP:20260419T072536
CREATED:20250118T022041Z
LAST-MODIFIED:20250118T022041Z
UID:4536-1739354400-1739361600@lais.ucsb.edu
SUMMARY:LAIS Community Breakfast in February
DESCRIPTION:Our monthly community breakfast will be on Wednesday\, February 12\, at 10am. Come out to Girvetz 2320 to enjoy free bagels and coffee\, while hearing our LAIS graduate students share some of their research!
URL:https://lais.ucsb.edu/event/lais-community-breakfast-in-february/
END:VEVENT
BEGIN:VEVENT
DTSTART;TZID=America/Los_Angeles:20250214T110000
DTEND;TZID=America/Los_Angeles:20250214T130000
DTSTAMP:20260419T072536
CREATED:20250128T000853Z
LAST-MODIFIED:20250210T232411Z
UID:4561-1739530800-1739538000@lais.ucsb.edu
SUMMARY:Tertulia: "Violence and Drug Trafficking in Ecuador"
DESCRIPTION:Please join us for the first LAIS Tertulia of this year\, on Friday\, February 14th\, at 11 am\, in Girvetz 2320\, on the subject of Violence and Drug Trafficking in Ecuador. The event will feature interventions by Michelle Maffei (Universidad de Guayaquil)\, Alejandro Borja (Universidad San Francisco de Quito)\, and José Zurita (University of Bergen)\, and has been organised by LAIS Graduate Affiliate Eduardo Castro (History). There is also the option to join by Zoom\, by registering at https://bit.ly/lais-tertulia-ecuador. \nFor those of you new to LAIS\, tertulias are open-format conversations that bring together students\, faculty\, instructors\, and staff from our community and institutions in Latin America to discuss issues that concern us — from current affairs to our work within and beyond the academy.
URL:https://lais.ucsb.edu/event/tertulia-violence-and-drug-trafficking-in-ecuador/
LOCATION:Girvetz 2320
END:VEVENT
END:VCALENDAR