BEGIN:VCALENDAR
VERSION:2.0
PRODID:-//Latin American &amp; Iberian Studies Program - ECPv6.10.2//NONSGML v1.0//EN
CALSCALE:GREGORIAN
METHOD:PUBLISH
X-WR-CALNAME:Latin American &amp; Iberian Studies Program
X-ORIGINAL-URL:https://lais.ucsb.edu
X-WR-CALDESC:Events for Latin American &amp; Iberian Studies Program
REFRESH-INTERVAL;VALUE=DURATION:PT1H
X-Robots-Tag:noindex
X-PUBLISHED-TTL:PT1H
BEGIN:VTIMEZONE
TZID:UTC
BEGIN:STANDARD
TZOFFSETFROM:+0000
TZOFFSETTO:+0000
TZNAME:UTC
DTSTART:20210101T000000
END:STANDARD
END:VTIMEZONE
BEGIN:VEVENT
DTSTART;TZID=UTC:20210308T100000
DTEND;TZID=UTC:20210308T170000
DTSTAMP:20260420T050315
CREATED:20210303T182247Z
LAST-MODIFIED:20210704T171619Z
UID:2556-1615197600-1615222800@lais.ucsb.edu
SUMMARY:LAIS MA Recruitment Day
DESCRIPTION:Winter 2021 virtual visit to UC Santa Barbara for students accepted into the LAIS MA program. \nZoom link for the main events: https://ucsb.zoom.us/j/86523798829 \nZoom link for the graduate lunch: https://ucsb.zoom.us/j/82934523856 \nBelow is the schedule for the Winter 2021 virtual visit to UC Santa Barbara for students accepted into the LAIS MA program.
URL:https://lais.ucsb.edu/event/lais-ma-recruitment-day/
END:VEVENT
BEGIN:VEVENT
DTSTART;TZID=UTC:20210311T160000
DTEND;TZID=UTC:20210311T173000
DTSTAMP:20260420T050315
CREATED:20210304T123420Z
LAST-MODIFIED:20210704T172122Z
UID:2559-1615478400-1615483800@lais.ucsb.edu
SUMMARY:A Wave of Difference: Language Expression in the Argentine Feminist Imaginary
DESCRIPTION:Join this LAIS co-sponsored event to hear from Nicolas Cuello (National University of La Plata\, Argentina).\n\nLink: https://tinyurl.com/ve3fxb6c (Passcode: argentina)\n\nIn the context of a disproportionate increase in sexual violence against cis\, trans\, and transvestite women since 2015\, Argentine feminisms have prefigured the untimely irruption of public space in both process and form. The movements; interventions not only impact the social conditions and the epistemic tools for popular intelligibility of language expression of gender violence\, through an innovative use of communication technologies and social networks\, but also articulate\, from the multidimensionality in which inequality operates by gender and more broadly\, a transversal resistance to the oppressive characteristics that would accompany the neoliberal turn produced by public policy under President Mauricio Macri’s corporate governance mandate (2015-2019). This new state of public attention and mass representation allowed a reorganization of desires to spread and multiply across territories\, professional careers\, bodies\, and communities throughout the country\, which would forever transform the contours of a traditionally instituted political subject\, expanding its affective capacity to rework new forms of connection between the personal and the political\, extending the singular opportunity of its criticism to all spheres of social organization. In this way\, local feminisms constructed networks of theoretical exchange and practical solidarity between cis and trans women\, which to this day connect\, in a complex way and not without tension\, a concert of experiences that link and incorporate radical differences and specific demands of the sectors of working women\, ecologists\, diverse functional\, queer\, unionists\, anti-racists\, piqueteras\, educators\, prostitutes and racialized\, among many others\, in a structural critique of the functioning capitalist economic order.\n\nNicolás Cuello is a PhD candidate at the National Council for Scientific and Technical Research in Argentina. He is affiliated to the Gino Germani Research Institute at the University of Buenos Aires and also works as an Assistant Professor at the National University of the Arts. As an archivist he is part of the iniciative “Sex and Revolution” a Programme of feminist and sexed/gendered political memories at CeDInCI\, the Centre for Documentation and Research on Leftist Culture. His work focuses on the intersection of artistic practices\, queer politics\, critical representations of negative emotions and alternative graphic cultures in Argentina.
URL:https://lais.ucsb.edu/event/a-wave-of-difference-language-expression-in-the-argentine-feminist-imaginary/
END:VEVENT
BEGIN:VEVENT
DTSTART;TZID=UTC:20210321T090000
DTEND;TZID=UTC:20210321T150000
DTSTAMP:20260420T050315
CREATED:20200129T162641Z
LAST-MODIFIED:20210704T172257Z
UID:2562-1616317200-1616338800@lais.ucsb.edu
SUMMARY:Global/Premodern/Race
DESCRIPTION:This symposium brings together scholars working in Iberian\, Middle Eastern\, and Medieval Studies to engage in a critical discussion concerning race—reevaluating both its utility as a category of analysis in the premodern world and how it has structured medieval and early modern studies as academic fields.\n\nRegister via email by March 19\, 2021\, for this colloquium on Global/Premodern/Race co-sponsored by LAIS: global.premodern.race@gmail.com
URL:https://lais.ucsb.edu/event/global-premodern-race/
LOCATION:McCune Conference Room
END:VEVENT
END:VCALENDAR