BEGIN:VCALENDAR
VERSION:2.0
PRODID:-//Latin American &amp; Iberian Studies Program - ECPv6.10.2//NONSGML v1.0//EN
CALSCALE:GREGORIAN
METHOD:PUBLISH
X-WR-CALNAME:Latin American &amp; Iberian Studies Program
X-ORIGINAL-URL:https://lais.ucsb.edu
X-WR-CALDESC:Events for Latin American &amp; Iberian Studies Program
REFRESH-INTERVAL;VALUE=DURATION:PT1H
X-Robots-Tag:noindex
X-PUBLISHED-TTL:PT1H
BEGIN:VTIMEZONE
TZID:America/Los_Angeles
BEGIN:DAYLIGHT
TZOFFSETFROM:-0800
TZOFFSETTO:-0700
TZNAME:PDT
DTSTART:20230312T100000
END:DAYLIGHT
BEGIN:STANDARD
TZOFFSETFROM:-0700
TZOFFSETTO:-0800
TZNAME:PST
DTSTART:20231105T090000
END:STANDARD
END:VTIMEZONE
BEGIN:VTIMEZONE
TZID:UTC
BEGIN:STANDARD
TZOFFSETFROM:+0000
TZOFFSETTO:+0000
TZNAME:UTC
DTSTART:20190101T000000
END:STANDARD
END:VTIMEZONE
BEGIN:VEVENT
DTSTART;TZID=America/Los_Angeles:20231020T120000
DTEND;TZID=America/Los_Angeles:20231020T140000
DTSTAMP:20260417T142938
CREATED:20231102T181521Z
LAST-MODIFIED:20231122T231721Z
UID:3479-1697803200-1697810400@lais.ucsb.edu
SUMMARY:LAIS Welcome Back Lunch / Tertulia
DESCRIPTION:Khipu\, and Andean Instrument of Management\, Memory and Power with Dr. Lydia Fossa\nIn our first tertulia of the year\, Peruvian researcher Lydia Fossa will discuss her most recent findings on khipus\, the famed bunches of colored cords dotted with knots used by the Inkas\, revealing them as instruments of\nmanagement\, memory and power. Was the khipu limited to representing a particular language or were its symbols comprehensible to all inhabitants of the Inka empire? If so\, asks Dr. Fossa\, can we say\nthat literacy did not exist in Ancient Peru?
URL:https://lais.ucsb.edu/event/lais-welcome-back-lunch-tertulia/
LOCATION:McCune Conference Room HSSB 6020
CATEGORIES:LAIS,Public Lecture,Talk,Tertulia
ATTACH;FMTTYPE=image/jpeg:https://lais.ucsb.edu/wp-content/uploads/2023/10/Inca_Quipu.jpeg
END:VEVENT
BEGIN:VEVENT
DTSTART;TZID=UTC:20191104T110000
DTEND;TZID=UTC:20191104T110000
DTSTAMP:20260417T142938
CREATED:20191030T182620Z
LAST-MODIFIED:20210703T061444Z
UID:2484-1572865200-1572865200@lais.ucsb.edu
SUMMARY:"Transcorporeality in Black Atlantic Religions”\, a talk with Roberto Strongman
DESCRIPTION:Roberto Strongman is an Associate Professor in the Department of Black Studies at the University of California\, Santa Barbara. \nThis presentation establishes Transcorporeality as the distinct Afro-Diasporic cultural representation of the human psyche as multiple\, removable and external to a body that functions as its receptacle. This unique view of the body\, preserved in its most evident form in African religious traditions on both sides of the Atlantic\, allows the regendering of the bodies of initiates who are mounted and ridden by deities of a gender different than their own during the ritual ecstasy of trance possession. Through discussions of novels\, paintings\, films and interviews\, the presentation assembles and interprets a representative collection of such transcendental moments in which the commingling of the human and the divine produces subjectivities whose genders are unconstrained by biological sex due to the flexibility that this non-Cartesian corporeal model affords. \nRoberto Strongman is LAIS faculty.
URL:https://lais.ucsb.edu/event/transcorporeality-in-black-atlantic-religions-a-talk-with-roberto-strongman/
LOCATION:Department of Black Studies Conference Room (South Hall)
CATEGORIES:Talk
END:VEVENT
BEGIN:VEVENT
DTSTART;TZID=UTC:20191011T100000
DTEND;TZID=UTC:20191011T103000
DTSTAMP:20260417T142938
CREATED:20191009T180221Z
LAST-MODIFIED:20210701T163546Z
UID:2476-1570788000-1570789800@lais.ucsb.edu
SUMMARY:Robespierre de Oliveira\, “The Dark Side of the Earth or the Attempt to Empower”
DESCRIPTION:This talk is part of the 8th Biennial Conference of the International Herbert Marcuse Society\, Oct. 10-12\, 2019. \nFor a PDF of the conference program: https://www.history.ucsb.edu/wp-content/uploads/IHMS-Conference-ProgramOct2b.pdf \nThis event is co-sponsored by LAIS.
URL:https://lais.ucsb.edu/event/robespierre-de-oliveira-the-dark-side-of-the-earth-or-the-attempt-to-empower/
LOCATION:HSSB 4020
CATEGORIES:Conference,Talk
END:VEVENT
BEGIN:VEVENT
DTSTART;TZID=UTC:20191009T160000
DTEND;TZID=UTC:20191009T180000
DTSTAMP:20260417T142938
CREATED:20191009T175708Z
LAST-MODIFIED:20210701T163416Z
UID:2471-1570636800-1570644000@lais.ucsb.edu
SUMMARY:Robespierre de Oliveira\, "The State of the Opposition in Brazil"
DESCRIPTION:With the impeachment of Brazilian President Dilma in 2016 the right and extreme right came to power as the opposition split. Dr. Oliveira will show how Brazilian politics have turned upside down\, from social policies to private ones\, from economic growth to decline\, and from an open and diverse society to one that is more conservative and one-dimensional. \nRobespierre de Oliveira has been a professor of philosophy and critical theory in Brazil since 2002. He was a guest professor at the City University of New York in 2014-15. He has translated many of Herbert Marcuse’s works into Portuguese\, and published The Role of Philosophy in the Critical Theory of Herbert Marcuse (in Portuguese) in 2012. \nThis event is co-sponsored by LAIS and free to the public.
URL:https://lais.ucsb.edu/event/robespierre-de-oliveira-the-state-of-the-opposition-in-brazil/
LOCATION:SS&MS 2135
CATEGORIES:Talk
END:VEVENT
END:VCALENDAR