BEGIN:VCALENDAR
VERSION:2.0
PRODID:-//Latin American &amp; Iberian Studies Program - ECPv6.10.2//NONSGML v1.0//EN
CALSCALE:GREGORIAN
METHOD:PUBLISH
X-WR-CALNAME:Latin American &amp; Iberian Studies Program
X-ORIGINAL-URL:https://lais.ucsb.edu
X-WR-CALDESC:Events for Latin American &amp; Iberian Studies Program
REFRESH-INTERVAL;VALUE=DURATION:PT1H
X-Robots-Tag:noindex
X-PUBLISHED-TTL:PT1H
BEGIN:VTIMEZONE
TZID:UTC
BEGIN:STANDARD
TZOFFSETFROM:+0000
TZOFFSETTO:+0000
TZNAME:UTC
DTSTART:20190101T000000
END:STANDARD
END:VTIMEZONE
BEGIN:VEVENT
DTSTART;TZID=UTC:20190503T093000
DTEND;TZID=UTC:20190503T173000
DTSTAMP:20260418T043703
CREATED:20190426T134155Z
LAST-MODIFIED:20210701T153435Z
UID:2444-1556875800-1556904600@lais.ucsb.edu
SUMMARY:Criminalizing Immigrant Families: Race\, Gender\, and Family Separations at the U.S.-Mexico Border
DESCRIPTION:Race and gender have shaped the law\, public policy\, and the emotional and physical experiences of migration throughout history.  At the present moment\, however\, shifting patterns of migration and the current administration’s use of family separation as a deterrent has led to an intense struggle to define migration\, the migrant\, and the family. This conference explores these struggles on both sides of the border from historical and contemporary perspectives. \nThis event is free to the public and is Co-Sponsored by LAIS.
URL:https://lais.ucsb.edu/event/criminalizing-immigrant-families-race-gender-and-family-separations-at-the-u-s-mexico-border/
LOCATION:Loma Pelona Conference Room
CATEGORIES:Conference,History
END:VEVENT
END:VCALENDAR