BEGIN:VCALENDAR
VERSION:2.0
PRODID:-//Latin American &amp; Iberian Studies Program - ECPv6.10.2//NONSGML v1.0//EN
CALSCALE:GREGORIAN
METHOD:PUBLISH
X-WR-CALNAME:Latin American &amp; Iberian Studies Program
X-ORIGINAL-URL:https://lais.ucsb.edu
X-WR-CALDESC:Events for Latin American &amp; Iberian Studies Program
REFRESH-INTERVAL;VALUE=DURATION:PT1H
X-Robots-Tag:noindex
X-PUBLISHED-TTL:PT1H
BEGIN:VTIMEZONE
TZID:UTC
BEGIN:STANDARD
TZOFFSETFROM:+0000
TZOFFSETTO:+0000
TZNAME:UTC
DTSTART:20190101T000000
END:STANDARD
END:VTIMEZONE
BEGIN:VEVENT
DTSTART;TZID=UTC:20190507T160000
DTEND;TZID=UTC:20190507T190000
DTSTAMP:20260417T172050
CREATED:20190425T130807Z
LAST-MODIFIED:20210708T123701Z
UID:2453-1557244800-1557255600@lais.ucsb.edu
SUMMARY:Juan Carlos Estenssoro's “The inescapable Indian: Yungas\, chunchos and serranos in the geographical\, social and pictorial imaginings of Perú\, 16th through 18th centuries.”
DESCRIPTION:Juan Carlos Estenssoro is an historian and professor of Iberian and Latin American Studies at l’Université Paris\, where he also directs the Center for Research on Colonial Spanish America (CRAEC). He is one of the world’s leading specialists in colonial Andean society\, religion\, music\, and art\, and the author of serval award winning books and articles. His pathbreaking book Del paganismo a la santidad: La incorporación de los indios del Perú al catolicismo (1532-1750) (Lima\, 2003)\, is considered a classic. Other books include Música y sociedad coloniales: Lima 1680-1830 (Lima\, 1989)\, and\, with other collaborators\, La Música en el Perú (1985\, 1989\, 2007). The lecture will delivered in Spanish with an interpreter from 4:00 to 5:30 pm. It will be followed by a short break and an extended Q and A session until 7:00 pm. Refreshments will be served. This event is organized by LAIS and the History Department with generous cosponsorship from the office of the Dean of Humanities and Fine Arts. \n\nRead his work!
URL:https://lais.ucsb.edu/event/juan-carlos-estenssoros-the-inescapable-indian-yungas-chunchos-and-serranos-in-the-geographical-social-and-pictorial-imaginings-of-peru-16th-through-18th-centuries/
LOCATION:McCune Conference Room 6th Floor HSSB
CATEGORIES:Bilingual,Historian,Lecture
END:VEVENT
END:VCALENDAR