BEGIN:VCALENDAR
VERSION:2.0
PRODID:-//Latin American &amp; Iberian Studies Program - ECPv6.10.2//NONSGML v1.0//EN
CALSCALE:GREGORIAN
METHOD:PUBLISH
X-WR-CALNAME:Latin American &amp; Iberian Studies Program
X-ORIGINAL-URL:https://lais.ucsb.edu
X-WR-CALDESC:Events for Latin American &amp; Iberian Studies Program
REFRESH-INTERVAL;VALUE=DURATION:PT1H
X-Robots-Tag:noindex
X-PUBLISHED-TTL:PT1H
BEGIN:VTIMEZONE
TZID:America/Los_Angeles
BEGIN:DAYLIGHT
TZOFFSETFROM:-0800
TZOFFSETTO:-0700
TZNAME:PDT
DTSTART:20250309T100000
END:DAYLIGHT
BEGIN:STANDARD
TZOFFSETFROM:-0700
TZOFFSETTO:-0800
TZNAME:PST
DTSTART:20251102T090000
END:STANDARD
END:VTIMEZONE
BEGIN:VEVENT
DTSTART;TZID=America/Los_Angeles:20250523T140000
DTEND;TZID=America/Los_Angeles:20250523T160000
DTSTAMP:20260419T213609
CREATED:20250522T164915Z
LAST-MODIFIED:20250522T214847Z
UID:4717-1748008800-1748016000@lais.ucsb.edu
SUMMARY:Film Screening and Discussion: The Market and the Monkey's Paw: The Bitcoin Experiment in El Salvador
DESCRIPTION:Please join us on May 23rd\, from 2 to 4 pm\, in Girvetz 2320\, for a screening a discussion of The Market and the Monkey’s Paw: The Bitcoin Experiment in El Salvador\, a documentary by Global Studies undergraduate Leo Safir\, produced in collaboration with CLAIR Affiliate Prof. Nicole Cerpa Vielma (Global Studies). They will be in conversation with Prof. Giovanni Batz (Chicana/o Studies).
URL:https://lais.ucsb.edu/event/film-screening-and-discussion-the-market-and-the-monkeys-paw-the-bitcoin-experiment-in-el-salvador/
LOCATION:Girvetz 2320
END:VEVENT
END:VCALENDAR