BEGIN:VCALENDAR
VERSION:2.0
PRODID:-//Latin American &amp; Iberian Studies Program - ECPv6.10.2//NONSGML v1.0//EN
CALSCALE:GREGORIAN
METHOD:PUBLISH
X-ORIGINAL-URL:https://lais.ucsb.edu
X-WR-CALDESC:Events for Latin American &amp; Iberian Studies Program
REFRESH-INTERVAL;VALUE=DURATION:PT1H
X-Robots-Tag:noindex
X-PUBLISHED-TTL:PT1H
BEGIN:VTIMEZONE
TZID:America/Los_Angeles
BEGIN:DAYLIGHT
TZOFFSETFROM:-0800
TZOFFSETTO:-0700
TZNAME:PDT
DTSTART:20220313T100000
END:DAYLIGHT
BEGIN:STANDARD
TZOFFSETFROM:-0700
TZOFFSETTO:-0800
TZNAME:PST
DTSTART:20221106T090000
END:STANDARD
END:VTIMEZONE
BEGIN:VEVENT
DTSTART;TZID=America/Los_Angeles:20220301T140000
DTEND;TZID=America/Los_Angeles:20220301T160000
DTSTAMP:20260419T175956
CREATED:20220208T011017Z
LAST-MODIFIED:20220208T011017Z
UID:3312-1646143200-1646150400@lais.ucsb.edu
SUMMARY:Love and Other Affairs: Poetry and Music (Spain\, Latin America and Latinx US)
DESCRIPTION:
URL:https://lais.ucsb.edu/event/love-and-other-affairs-poetry-and-music-spain-latin-america-and-latinx-us/
LOCATION:Mosher Alumni House
ATTACH;FMTTYPE=application/pdf:https://lais.ucsb.edu/wp-content/uploads/2022/02/Event_March_1_2022_Love-and-Other-Affairs_Music_and_Poetry_Spain_Latin-America_Latinx-US.pdf
END:VEVENT
END:VCALENDAR