BEGIN:VCALENDAR
VERSION:2.0
PRODID:-//Latin American &amp; Iberian Studies Program - ECPv6.10.2//NONSGML v1.0//EN
CALSCALE:GREGORIAN
METHOD:PUBLISH
X-ORIGINAL-URL:https://lais.ucsb.edu
X-WR-CALDESC:Events for Latin American &amp; Iberian Studies Program
REFRESH-INTERVAL;VALUE=DURATION:PT1H
X-Robots-Tag:noindex
X-PUBLISHED-TTL:PT1H
BEGIN:VTIMEZONE
TZID:America/Los_Angeles
BEGIN:DAYLIGHT
TZOFFSETFROM:-0800
TZOFFSETTO:-0700
TZNAME:PDT
DTSTART:20220313T100000
END:DAYLIGHT
BEGIN:STANDARD
TZOFFSETFROM:-0700
TZOFFSETTO:-0800
TZNAME:PST
DTSTART:20221106T090000
END:STANDARD
END:VTIMEZONE
BEGIN:VEVENT
DTSTART;TZID=America/Los_Angeles:20220209T140000
DTEND;TZID=America/Los_Angeles:20220209T160000
DTSTAMP:20260422T110922
CREATED:20220208T190123Z
LAST-MODIFIED:20220208T190123Z
UID:3324-1644415200-1644422400@lais.ucsb.edu
SUMMARY:Los primeros seis meses del Gobierno de Pedro Castillo: Principales desafíos
DESCRIPTION:Attend on Facebook live here: bit.ly/Desafios_Gobierno_Peru
URL:https://lais.ucsb.edu/event/los-primeros-seis-meses-del-gobierno-de-pedro-castillo-principales-desafios/
ATTACH;FMTTYPE=image/png:https://lais.ucsb.edu/wp-content/uploads/2022/02/image002.png
END:VEVENT
END:VCALENDAR