BEGIN:VCALENDAR
VERSION:2.0
PRODID:-//Latin American &amp; Iberian Studies Program - ECPv6.10.2//NONSGML v1.0//EN
CALSCALE:GREGORIAN
METHOD:PUBLISH
X-WR-CALNAME:Latin American &amp; Iberian Studies Program
X-ORIGINAL-URL:https://lais.ucsb.edu
X-WR-CALDESC:Events for Latin American &amp; Iberian Studies Program
REFRESH-INTERVAL;VALUE=DURATION:PT1H
X-Robots-Tag:noindex
X-PUBLISHED-TTL:PT1H
BEGIN:VTIMEZONE
TZID:America/Los_Angeles
BEGIN:DAYLIGHT
TZOFFSETFROM:-0800
TZOFFSETTO:-0700
TZNAME:PDT
DTSTART:20220313T100000
END:DAYLIGHT
BEGIN:STANDARD
TZOFFSETFROM:-0700
TZOFFSETTO:-0800
TZNAME:PST
DTSTART:20221106T090000
END:STANDARD
END:VTIMEZONE
BEGIN:VEVENT
DTSTART;TZID=America/Los_Angeles:20220204T080000
DTEND;TZID=America/Los_Angeles:20220204T100000
DTSTAMP:20260416T025744
CREATED:20220201T190128Z
LAST-MODIFIED:20220201T190128Z
UID:3303-1643961600-1643968800@lais.ucsb.edu
SUMMARY:ALARI Seminar Series with Luis Gilberto Murillo: Política ambiental y climática: Enfoque diferencial para Pueblos Afro-descendientes en las Américas
DESCRIPTION:Register for the online event here: https://harvard.zoom.us/meeting/register/tJwod-ihqjsvGNRWK2lx9e_zupP_vWC…
URL:https://lais.ucsb.edu/event/alari-seminar-series-with-luis-gilberto-murillo-politica-ambiental-y-climatica-enfoque-diferencial-para-pueblos-afro-descendientes-en-las-americas/
ATTACH;FMTTYPE=image/png:https://lais.ucsb.edu/wp-content/uploads/2022/02/Screen-Shot-2022-02-01-at-10.57.30-AM.png
END:VEVENT
END:VCALENDAR