BEGIN:VCALENDAR
VERSION:2.0
PRODID:-//Latin American &amp; Iberian Studies Program - ECPv6.10.2//NONSGML v1.0//EN
CALSCALE:GREGORIAN
METHOD:PUBLISH
X-WR-CALNAME:Latin American &amp; Iberian Studies Program
X-ORIGINAL-URL:https://lais.ucsb.edu
X-WR-CALDESC:Events for Latin American &amp; Iberian Studies Program
REFRESH-INTERVAL;VALUE=DURATION:PT1H
X-Robots-Tag:noindex
X-PUBLISHED-TTL:PT1H
BEGIN:VTIMEZONE
TZID:America/Los_Angeles
BEGIN:DAYLIGHT
TZOFFSETFROM:-0800
TZOFFSETTO:-0700
TZNAME:PDT
DTSTART:20210314T100000
END:DAYLIGHT
BEGIN:STANDARD
TZOFFSETFROM:-0700
TZOFFSETTO:-0800
TZNAME:PST
DTSTART:20211107T090000
END:STANDARD
END:VTIMEZONE
BEGIN:VEVENT
DTSTART;TZID=America/Los_Angeles:20211005T150000
DTEND;TZID=America/Los_Angeles:20211005T153000
DTSTAMP:20260419T162400
CREATED:20211005T005422Z
LAST-MODIFIED:20211005T005422Z
UID:3218-1633446000-1633447800@lais.ucsb.edu
SUMMARY:Zinda. La mirada abolicionista de María Rosa Gálvez
DESCRIPTION:Zoom Meeting ID:885 537 1298
URL:https://lais.ucsb.edu/event/zinda-la-mirada-abolicionista-de-maria-rosa-galvez/
ATTACH;FMTTYPE=image/jpeg:https://lais.ucsb.edu/wp-content/uploads/2021/10/Ponencia_Professor-Miquel-Bota_05ZINDA-UCSB-2-1.jpg
END:VEVENT
END:VCALENDAR