BEGIN:VCALENDAR
VERSION:2.0
PRODID:-//Latin American &amp; Iberian Studies Program - ECPv6.10.2//NONSGML v1.0//EN
CALSCALE:GREGORIAN
METHOD:PUBLISH
X-WR-CALNAME:Latin American &amp; Iberian Studies Program
X-ORIGINAL-URL:https://lais.ucsb.edu
X-WR-CALDESC:Events for Latin American &amp; Iberian Studies Program
REFRESH-INTERVAL;VALUE=DURATION:PT1H
X-Robots-Tag:noindex
X-PUBLISHED-TTL:PT1H
BEGIN:VTIMEZONE
TZID:America/Los_Angeles
BEGIN:DAYLIGHT
TZOFFSETFROM:-0800
TZOFFSETTO:-0700
TZNAME:PDT
DTSTART:20210314T100000
END:DAYLIGHT
BEGIN:STANDARD
TZOFFSETFROM:-0700
TZOFFSETTO:-0800
TZNAME:PST
DTSTART:20211107T090000
END:STANDARD
END:VTIMEZONE
BEGIN:VEVENT
DTSTART;TZID=America/Los_Angeles:20210916T141500
DTEND;TZID=America/Los_Angeles:20210916T153000
DTSTAMP:20260419T092600
CREATED:20210909T034536Z
LAST-MODIFIED:20210909T034536Z
UID:3156-1631801700-1631806200@lais.ucsb.edu
SUMMARY:Weston Roundtable Series: How to Help Protect the Amazon
DESCRIPTION:Register here for zoom link: https://go.wisc.edu/weston_silva \nBrazil’s former Minister of Environment\, Marina Silva\, will discuss the challenges we need to face in order to preserve the Amazon and its indigenous population in the context of the multiple crises that Brazil and the world are currently experiencing. These reflections are the result of more than 30 years of socio-environmental activism in Brazil. \n\n\n\nIntroduction by Dr. Marcos Colón\, Florida State University.\nInterpretation by Dr. Aline Alves Ferreira\, University of California Santa Barbara\n\nThe talk takes place from 2:15pm to 3:30 pm PDT (USA)\, 4:15-5:30 CDT (USA)\, or 6:15-7:30 BRT (Brazil)
URL:https://lais.ucsb.edu/event/weston-roundtable-series-how-to-help-protect-the-amazon/
ATTACH;FMTTYPE=application/pdf:https://lais.ucsb.edu/wp-content/uploads/2021/09/silva-1.pdf
END:VEVENT
END:VCALENDAR