BEGIN:VCALENDAR
VERSION:2.0
PRODID:-//Latin American &amp; Iberian Studies Program - ECPv6.10.2//NONSGML v1.0//EN
CALSCALE:GREGORIAN
METHOD:PUBLISH
X-WR-CALNAME:Latin American &amp; Iberian Studies Program
X-ORIGINAL-URL:https://lais.ucsb.edu
X-WR-CALDESC:Events for Latin American &amp; Iberian Studies Program
REFRESH-INTERVAL;VALUE=DURATION:PT1H
X-Robots-Tag:noindex
X-PUBLISHED-TTL:PT1H
BEGIN:VTIMEZONE
TZID:UTC
BEGIN:STANDARD
TZOFFSETFROM:+0000
TZOFFSETTO:+0000
TZNAME:UTC
DTSTART:20210101T000000
END:STANDARD
END:VTIMEZONE
BEGIN:VEVENT
DTSTART;VALUE=DATE:20210429
DTEND;VALUE=DATE:20210501
DTSTAMP:20260416T012048
CREATED:20210427T105602Z
LAST-MODIFIED:20210704T173732Z
UID:2571-1619654400-1619827199@lais.ucsb.edu
SUMMARY:LAIS Alumni Reunion: Celebrating 40+ years of Masters\, 1980-2021
DESCRIPTION:Welcome to the first-ever LAIS Program alumni reunion! Join us to celebrate 40+ years of achievements and Master’s theses in the Latin American and Iberian Studies Master’s Program. This two-day event will feature seven panels showcasing the career paths of 19 alumni who graduated between 1985 and 2018. We will be joined by former directors and mentors\, and other members of the LAIS community. Please join as you are able\, and stay for as long as you want!\n\nEvent Date:\nThursday\, April 29\, 2021 – 10:00am to 5:30pm\nFriday\, April 30\, 2021 – 9:00am to 4:00pm\n\nRegister and learn more: LAIS.UCSB.EDU/ALUMNI\nDownload the program here: https://drive.google.com/file/d/1PQHWNCvQEXD6fDCw6hFQ51ArXKhDVWW6/view?usp=sharing
URL:https://lais.ucsb.edu/event/lais-alumni-reunion-celebrating-40-years-of-masters-1980-2021/
CATEGORIES:Alumni,career
END:VEVENT
BEGIN:VEVENT
DTSTART;VALUE=DATE:20210429
DTEND;VALUE=DATE:20210501
DTSTAMP:20260416T012048
CREATED:20210427T120451Z
LAST-MODIFIED:20210704T174152Z
UID:2574-1619654400-1619827199@lais.ucsb.edu
SUMMARY:LAIS Career Panels and Alumni Reunion
DESCRIPTION:Join the Latin American and Iberian Studies Program in its celebration of 40+  years of achievements and master’s theses\, and learn from LAIS MA alumni about their professional careers in and beyond academia. This two-day event will feature seven panels showcasing the career paths of 19 alumni who graduated between 1985 and 2018\, from film and journalism to business and administration\, education\, NGOs\, history\, anthropology\, and more. \n\nThis is a great opportunity for undergraduate students to connect with LAIS faculty and MA alumni\, and to learn about the different paths alumni have taken upon completing their LAIS Master’s degree. The event will be joined by former directors and mentors\, as well as other members of the LAIS community. We hope to see you there!\n\nEvent Date:\nThursday\, April 29\, 2021 – 10:00am to 5:30pm\nFriday\, April 30\, 2021 – 9:00am to 4:00pm
URL:https://lais.ucsb.edu/event/lais-career-panels-and-alumni-reunion/
CATEGORIES:career,undergraduate
END:VEVENT
END:VCALENDAR