BEGIN:VCALENDAR
VERSION:2.0
PRODID:-//Latin American &amp; Iberian Studies Program - ECPv6.10.2//NONSGML v1.0//EN
CALSCALE:GREGORIAN
METHOD:PUBLISH
X-WR-CALNAME:Latin American &amp; Iberian Studies Program
X-ORIGINAL-URL:https://lais.ucsb.edu
X-WR-CALDESC:Events for Latin American &amp; Iberian Studies Program
REFRESH-INTERVAL;VALUE=DURATION:PT1H
X-Robots-Tag:noindex
X-PUBLISHED-TTL:PT1H
BEGIN:VTIMEZONE
TZID:UTC
BEGIN:STANDARD
TZOFFSETFROM:+0000
TZOFFSETTO:+0000
TZNAME:UTC
DTSTART:20210101T000000
END:STANDARD
END:VTIMEZONE
BEGIN:VEVENT
DTSTART;TZID=UTC:20210423T090000
DTEND;TZID=UTC:20210423T170000
DTSTAMP:20260419T213421
CREATED:20210304T124521Z
LAST-MODIFIED:20210704T173441Z
UID:2569-1619168400-1619197200@lais.ucsb.edu
SUMMARY:Haunting the Canon: The Super-phenomena in Art
DESCRIPTION:LAIS is pleased to co-sponsor the Art History Graduate Student Association’s 45th annual symposium! \nThis virtual symposium is an opportunity for students and scholars across the humanities to engage in a critical dialogue while maintaining a focus on images and material objects. This year’s theme asks participants to challenge colonialist conceptions of mystical\, spiritual\, and alchemical subjects. We are honored to host Associate Professor of English at Fordham University Robb Hernández as our keynote speaker. His revisionist scholarship concerning alternative Latinx archives\, AIDS\, and speculative aesthetics will be of great interest to many scholars in our community. \nMore details coming soon…
URL:https://lais.ucsb.edu/event/haunting-the-canon-the-super-phenomena-in-art/
END:VEVENT
END:VCALENDAR