BEGIN:VCALENDAR
VERSION:2.0
PRODID:-//Latin American &amp; Iberian Studies Program - ECPv6.10.2//NONSGML v1.0//EN
CALSCALE:GREGORIAN
METHOD:PUBLISH
X-ORIGINAL-URL:https://lais.ucsb.edu
X-WR-CALDESC:Events for Latin American &amp; Iberian Studies Program
REFRESH-INTERVAL;VALUE=DURATION:PT1H
X-Robots-Tag:noindex
X-PUBLISHED-TTL:PT1H
BEGIN:VTIMEZONE
TZID:UTC
BEGIN:STANDARD
TZOFFSETFROM:+0000
TZOFFSETTO:+0000
TZNAME:UTC
DTSTART:20210101T000000
END:STANDARD
END:VTIMEZONE
BEGIN:VEVENT
DTSTART;TZID=UTC:20210308T100000
DTEND;TZID=UTC:20210308T170000
DTSTAMP:20260420T094736
CREATED:20210303T182247Z
LAST-MODIFIED:20210704T171619Z
UID:2556-1615197600-1615222800@lais.ucsb.edu
SUMMARY:LAIS MA Recruitment Day
DESCRIPTION:Winter 2021 virtual visit to UC Santa Barbara for students accepted into the LAIS MA program. \nZoom link for the main events: https://ucsb.zoom.us/j/86523798829 \nZoom link for the graduate lunch: https://ucsb.zoom.us/j/82934523856 \nBelow is the schedule for the Winter 2021 virtual visit to UC Santa Barbara for students accepted into the LAIS MA program.
URL:https://lais.ucsb.edu/event/lais-ma-recruitment-day/
END:VEVENT
END:VCALENDAR